BEGIN:VCALENDAR
VERSION:2.0
PRODID:-//ThemeBoy//SportsPress//EN
CALSCALE:GREGORIAN
METHOD:PUBLISH
URL:/event/yellow-white-4-3-22/?ical=G%3A11284&feed=sp-ical
X-FROM-URL:/event/yellow-white-4-3-22/?ical=G%3A11284&feed=sp-ical
NAME:Magic School Bus vs The Harvey Milks (Tie: 2-2)
X-WR-CALNAME:Magic School Bus vs The Harvey Milks (Tie: 2-2)
DESCRIPTION:Magic School Bus vs The Harvey Milks (Tie: 2-2)
X-WR-CALDESC:Magic School Bus vs The Harvey Milks (Tie: 2-2)
REFRESH-INTERVAL;VALUE=DURATION:PT2M
X-PUBLISHED-TTL:PT2M
TZID:America/Chicago
X-WR-TIMEZONE:America/Chicago
BEGIN:VEVENT
SUMMARY:Magic School Bus vs The Harvey Milks (Tie: 2-2)
DESCRIPTION:https://www.madisongayhockey.org/event/yellow-white-4-3-22/
UID:11284
STATUS:CONFIRMED
DTSTART:20220403T170000
DTEND:20220403T180000
LAST-MODIFIED:20260417T014946
LOCATION:Legacy20 Ice Arena - Rink A\\, 2616 N Pleasant View Rd\\, Middleton\\, WI 53562
GEO:43.10484083494262;-89.53730285167696
END:VEVENT
END:VCALENDAR