BEGIN:VCALENDAR
VERSION:2.0
PRODID:-//ThemeBoy//SportsPress//EN
CALSCALE:GREGORIAN
METHOD:PUBLISH
URL:/event/yellow-red-12-7-25/?ical=G%3A21612&feed=sp-ical
X-FROM-URL:/event/yellow-red-12-7-25/?ical=G%3A21612&feed=sp-ical
NAME:Gotta Check 'Em All (W-4) vs Clifford's Big Gay Hockey Team (L-2)
X-WR-CALNAME:Gotta Check 'Em All (W-4) vs Clifford's Big Gay Hockey Team (L-2)
DESCRIPTION:Gotta Check 'Em All (W-4) vs Clifford's Big Gay Hockey Team (L-2)
X-WR-CALDESC:Gotta Check 'Em All (W-4) vs Clifford's Big Gay Hockey Team (L-2)
REFRESH-INTERVAL;VALUE=DURATION:PT2M
X-PUBLISHED-TTL:PT2M
TZID:America/Chicago
X-WR-TIMEZONE:America/Chicago
BEGIN:VEVENT
SUMMARY:Gotta Check 'Em All (W-4) vs Clifford's Big Gay Hockey Team (L-2)
DESCRIPTION:https://www.madisongayhockey.org/event/yellow-red-12-7-25/
UID:21612
STATUS:CONFIRMED
DTSTART:20251207T170000
DTEND:20251207T180000
LAST-MODIFIED:20260416T230038
LOCATION:Legacy20 Ice Arena - Rink B\\, 2616 N Pleasant View Rd\\, Middleton\\, WI 53562
GEO:43.10484083494262;-89.53730285167696
END:VEVENT
END:VCALENDAR