BEGIN:VCALENDAR
VERSION:2.0
PRODID:-//ThemeBoy//SportsPress//EN
CALSCALE:GREGORIAN
METHOD:PUBLISH
URL:/event/yellow-light-blue-3-17-19/?ical=G%3A6816&feed=sp-ical
X-FROM-URL:/event/yellow-light-blue-3-17-19/?ical=G%3A6816&feed=sp-ical
NAME:ABBA: Gold (W-3) vs Narwhals (L-2)
X-WR-CALNAME:ABBA: Gold (W-3) vs Narwhals (L-2)
DESCRIPTION:ABBA: Gold (W-3) vs Narwhals (L-2)
X-WR-CALDESC:ABBA: Gold (W-3) vs Narwhals (L-2)
REFRESH-INTERVAL;VALUE=DURATION:PT2M
X-PUBLISHED-TTL:PT2M
TZID:America/Chicago
X-WR-TIMEZONE:America/Chicago
BEGIN:VEVENT
SUMMARY:ABBA: Gold (W-3) vs Narwhals (L-2)
DESCRIPTION:https://www.madisongayhockey.org/event/yellow-light-blue-3-17-19/
UID:6816
STATUS:CONFIRMED
DTSTART:20190317T165000
DTEND:20190317T175000
LAST-MODIFIED:20260417T021149
LOCATION:Hartmeyer Ice Arena\, 1834 Commercial Ave\, Madison\, WI 53704\, USA
GEO:43.1071655;-89.36041549999999
END:VEVENT
END:VCALENDAR