BEGIN:VCALENDAR
VERSION:2.0
PRODID:-//ThemeBoy//SportsPress//EN
CALSCALE:GREGORIAN
METHOD:PUBLISH
URL:/event/white-orange-12-2-18/?ical=G%3A6768&feed=sp-ical
X-FROM-URL:/event/white-orange-12-2-18/?ical=G%3A6768&feed=sp-ical
NAME:Snow Witte and the 14 Dwarfs (W-5) vs Arrrnge (L-2)
X-WR-CALNAME:Snow Witte and the 14 Dwarfs (W-5) vs Arrrnge (L-2)
DESCRIPTION:Snow Witte and the 14 Dwarfs (W-5) vs Arrrnge (L-2)
X-WR-CALDESC:Snow Witte and the 14 Dwarfs (W-5) vs Arrrnge (L-2)
REFRESH-INTERVAL;VALUE=DURATION:PT2M
X-PUBLISHED-TTL:PT2M
TZID:America/Chicago
X-WR-TIMEZONE:America/Chicago
BEGIN:VEVENT
SUMMARY:Snow Witte and the 14 Dwarfs (W-5) vs Arrrnge (L-2)
DESCRIPTION:https://www.madisongayhockey.org/event/white-orange-12-2-18/
UID:6768
STATUS:CONFIRMED
DTSTART:20181202T191000
DTEND:20181202T201000
LAST-MODIFIED:20260417T021433
LOCATION:Hartmeyer Ice Arena\\, 1834 Commercial Ave\\, Madison\\, WI 53704\\, USA
GEO:43.1071655;-89.36041549999999
END:VEVENT
END:VCALENDAR