BEGIN:VCALENDAR
VERSION:2.0
PRODID:-//ThemeBoy//SportsPress//EN
CALSCALE:GREGORIAN
METHOD:PUBLISH
URL:/event/white-light-blue-4-10-22/?ical=G%3A12233&feed=sp-ical
X-FROM-URL:/event/white-light-blue-4-10-22/?ical=G%3A12233&feed=sp-ical
NAME:The Harvey Milks (W-2) vs Slippery When Wet (L-1)
X-WR-CALNAME:The Harvey Milks (W-2) vs Slippery When Wet (L-1)
DESCRIPTION:The Harvey Milks (W-2) vs Slippery When Wet (L-1)
X-WR-CALDESC:The Harvey Milks (W-2) vs Slippery When Wet (L-1)
REFRESH-INTERVAL;VALUE=DURATION:PT2M
X-PUBLISHED-TTL:PT2M
TZID:America/Chicago
X-WR-TIMEZONE:America/Chicago
BEGIN:VEVENT
SUMMARY:The Harvey Milks (W-2) vs Slippery When Wet (L-1)
DESCRIPTION:https://www.madisongayhockey.org/event/white-light-blue-4-10-22/
UID:12233
STATUS:CONFIRMED
DTSTART:20220410T172009
DTEND:20220410T182009
LAST-MODIFIED:20260417T014918
LOCATION:Legacy20 Ice Arena - Rink A\\, 2616 N Pleasant View Rd\\, Middleton\\, WI 53562
GEO:43.10484083494262;-89.53730285167696
END:VEVENT
END:VCALENDAR