BEGIN:VCALENDAR
VERSION:2.0
PRODID:-//ThemeBoy//SportsPress//EN
CALSCALE:GREGORIAN
METHOD:PUBLISH
URL:/event/white-light-blue-3-19-23/?ical=G%3A14627&feed=sp-ical
X-FROM-URL:/event/white-light-blue-3-19-23/?ical=G%3A14627&feed=sp-ical
NAME:Just Ice (W-3) vs Squirtle Squad (L-1)
X-WR-CALNAME:Just Ice (W-3) vs Squirtle Squad (L-1)
DESCRIPTION:Just Ice (W-3) vs Squirtle Squad (L-1)
X-WR-CALDESC:Just Ice (W-3) vs Squirtle Squad (L-1)
REFRESH-INTERVAL;VALUE=DURATION:PT2M
X-PUBLISHED-TTL:PT2M
TZID:America/Chicago
X-WR-TIMEZONE:America/Chicago
BEGIN:VEVENT
SUMMARY:Just Ice (W-3) vs Squirtle Squad (L-1)
DESCRIPTION:https://www.madisongayhockey.org/event/white-light-blue-3-19-23/
UID:14627
STATUS:CONFIRMED
DTSTART:20230319T201521
DTEND:20230319T211521
LAST-MODIFIED:20260416T233202
LOCATION:Legacy20 Ice Arena - Rink A\, 2616 N Pleasant View Rd\, Middleton\, WI 53562
GEO:43.10484083494262;-89.53730285167696
END:VEVENT
END:VCALENDAR