BEGIN:VCALENDAR
VERSION:2.0
PRODID:-//ThemeBoy//SportsPress//EN
CALSCALE:GREGORIAN
METHOD:PUBLISH
URL:/event/red-yellow-12-8-19/?ical=G%3A8780&feed=sp-ical
X-FROM-URL:/event/red-yellow-12-8-19/?ical=G%3A8780&feed=sp-ical
NAME:Dumpster Fire vs Yellow Submarine (Tie: 0-0)
X-WR-CALNAME:Dumpster Fire vs Yellow Submarine (Tie: 0-0)
DESCRIPTION:Dumpster Fire vs Yellow Submarine (Tie: 0-0)
X-WR-CALDESC:Dumpster Fire vs Yellow Submarine (Tie: 0-0)
REFRESH-INTERVAL;VALUE=DURATION:PT2M
X-PUBLISHED-TTL:PT2M
TZID:America/Chicago
X-WR-TIMEZONE:America/Chicago
BEGIN:VEVENT
SUMMARY:Dumpster Fire vs Yellow Submarine (Tie: 0-0)
DESCRIPTION:https://www.madisongayhockey.org/event/red-yellow-12-8-19/
UID:8780
STATUS:CONFIRMED
DTSTART:20191208T185000
DTEND:20191208T195000
LAST-MODIFIED:20260417T015835
LOCATION:Legacy20 Ice Arena - Rink B\\, 2616 N Pleasant View Rd\\, Middleton\\, WI 53562
GEO:43.10484083494262;-89.53730285167696
END:VEVENT
END:VCALENDAR