BEGIN:VCALENDAR
VERSION:2.0
PRODID:-//ThemeBoy//SportsPress//EN
CALSCALE:GREGORIAN
METHOD:PUBLISH
URL:/event/purple-yellow-4-10-22/?ical=G%3A12235&feed=sp-ical
X-FROM-URL:/event/purple-yellow-4-10-22/?ical=G%3A12235&feed=sp-ical
NAME:Violet Villains (W-3) vs Magic School Bus (L-2)
X-WR-CALNAME:Violet Villains (W-3) vs Magic School Bus (L-2)
DESCRIPTION:Violet Villains (W-3) vs Magic School Bus (L-2)
X-WR-CALDESC:Violet Villains (W-3) vs Magic School Bus (L-2)
REFRESH-INTERVAL;VALUE=DURATION:PT2M
X-PUBLISHED-TTL:PT2M
TZID:America/Chicago
X-WR-TIMEZONE:America/Chicago
BEGIN:VEVENT
SUMMARY:Violet Villains (W-3) vs Magic School Bus (L-2)
DESCRIPTION:https://www.madisongayhockey.org/event/purple-yellow-4-10-22/
UID:12235
STATUS:CONFIRMED
DTSTART:20220410T203026
DTEND:20220410T213026
LAST-MODIFIED:20260417T014901
LOCATION:Legacy20 Ice Arena - Rink A\\, 2616 N Pleasant View Rd\\, Middleton\\, WI 53562
GEO:43.10484083494262;-89.53730285167696
END:VEVENT
END:VCALENDAR