BEGIN:VCALENDAR
VERSION:2.0
PRODID:-//ThemeBoy//SportsPress//EN
CALSCALE:GREGORIAN
METHOD:PUBLISH
URL:/event/purple-white-11-9-25/?ical=G%3A21564&feed=sp-ical
X-FROM-URL:/event/purple-white-11-9-25/?ical=G%3A21564&feed=sp-ical
NAME:Purple Penguins vs The Wonderful Blizzard of Oz (Tie: 3-3)
X-WR-CALNAME:Purple Penguins vs The Wonderful Blizzard of Oz (Tie: 3-3)
DESCRIPTION:Purple Penguins vs The Wonderful Blizzard of Oz (Tie: 3-3)
X-WR-CALDESC:Purple Penguins vs The Wonderful Blizzard of Oz (Tie: 3-3)
REFRESH-INTERVAL;VALUE=DURATION:PT2M
X-PUBLISHED-TTL:PT2M
TZID:America/Chicago
X-WR-TIMEZONE:America/Chicago
BEGIN:VEVENT
SUMMARY:Purple Penguins vs The Wonderful Blizzard of Oz (Tie: 3-3)
DESCRIPTION:https://www.madisongayhockey.org/event/purple-white-11-9-25/
UID:21564
STATUS:CONFIRMED
DTSTART:20251109T184000
DTEND:20251109T194000
LAST-MODIFIED:20260416T230319
LOCATION:DeForest Yards Ice Arena\\, 6251 Monticello Dr\\, DeForest\\, WI 53532
GEO:43.19131663374569;-89.32292461395265
END:VEVENT
END:VCALENDAR