BEGIN:VCALENDAR
VERSION:2.0
PRODID:-//ThemeBoy//SportsPress//EN
CALSCALE:GREGORIAN
METHOD:PUBLISH
URL:/event/purple-red-1-14-18/?ical=G%3A5130&feed=sp-ical
X-FROM-URL:/event/purple-red-1-14-18/?ical=G%3A5130&feed=sp-ical
NAME:Raisin Trouble (W-3) vs Redrum (L-2)
X-WR-CALNAME:Raisin Trouble (W-3) vs Redrum (L-2)
DESCRIPTION:Raisin Trouble (W-3) vs Redrum (L-2)
X-WR-CALDESC:Raisin Trouble (W-3) vs Redrum (L-2)
REFRESH-INTERVAL;VALUE=DURATION:PT2M
X-PUBLISHED-TTL:PT2M
TZID:America/Chicago
X-WR-TIMEZONE:America/Chicago
BEGIN:VEVENT
SUMMARY:Raisin Trouble (W-3) vs Redrum (L-2)
DESCRIPTION:https://www.madisongayhockey.org/event/purple-red-1-14-18/
UID:5130
STATUS:CONFIRMED
DTSTART:20180114T191000
DTEND:20180114T201000
LAST-MODIFIED:20260417T022116
LOCATION:Hartmeyer Ice Arena\, 1834 Commercial Ave\, Madison\, WI 53704\, USA
GEO:43.1071655;-89.36041549999999
END:VEVENT
END:VCALENDAR