BEGIN:VCALENDAR
VERSION:2.0
PRODID:-//ThemeBoy//SportsPress//EN
CALSCALE:GREGORIAN
METHOD:PUBLISH
URL:/event/purple-lime-12-7-25/?ical=G%3A21613&feed=sp-ical
X-FROM-URL:/event/purple-lime-12-7-25/?ical=G%3A21613&feed=sp-ical
NAME:Purple Penguins vs Lawn And Order (Tie: 1-1)
X-WR-CALNAME:Purple Penguins vs Lawn And Order (Tie: 1-1)
DESCRIPTION:Purple Penguins vs Lawn And Order (Tie: 1-1)
X-WR-CALDESC:Purple Penguins vs Lawn And Order (Tie: 1-1)
REFRESH-INTERVAL;VALUE=DURATION:PT2M
X-PUBLISHED-TTL:PT2M
TZID:America/Chicago
X-WR-TIMEZONE:America/Chicago
BEGIN:VEVENT
SUMMARY:Purple Penguins vs Lawn And Order (Tie: 1-1)
DESCRIPTION:https://www.madisongayhockey.org/event/purple-lime-12-7-25/
UID:21613
STATUS:CONFIRMED
DTSTART:20251207T181000
DTEND:20251207T191000
LAST-MODIFIED:20260416T230029
LOCATION:Legacy20 Ice Arena - Rink B\\, 2616 N Pleasant View Rd\\, Middleton\\, WI 53562
GEO:43.10484083494262;-89.53730285167696
END:VEVENT
END:VCALENDAR