BEGIN:VCALENDAR
VERSION:2.0
PRODID:-//ThemeBoy//SportsPress//EN
CALSCALE:GREGORIAN
METHOD:PUBLISH
URL:/event/purple-bright-blue-2-1-26/?ical=G%3A21676&feed=sp-ica
	l
X-FROM-URL:/event/purple-bright-blue-2-1-26/?ical=G%3A21676&feed=sp-ica
	l
NAME:Purple Penguins (L-2) vs Blutonium (W-4)
X-WR-CALNAME:Purple Penguins (L-2) vs Blutonium (W-4)
DESCRIPTION:Purple Penguins (L-2) vs Blutonium (W-4)
X-WR-CALDESC:Purple Penguins (L-2) vs Blutonium (W-4)
REFRESH-INTERVAL;VALUE=DURATION:PT2M
X-PUBLISHED-TTL:PT2M
TZID:America/Chicago
X-WR-TIMEZONE:America/Chicago
BEGIN:VEVENT
SUMMARY:Purple Penguins (L-2) vs Blutonium (W-4)
DESCRIPTION:https://www.madisongayhockey.org/event/purple-bright-blue-2-1-26/
UID:21676
STATUS:CONFIRMED
DTSTART:20260201T204000
DTEND:20260201T214000
LAST-MODIFIED:20260416T225649
LOCATION:Legacy20 Ice Arena - Rink A\\, 2616 N Pleasant View Rd\\, Middleton\\, WI 53562
GEO:43.10484083494262;-89.53730285167696
END:VEVENT
END:VCALENDAR