BEGIN:VCALENDAR
VERSION:2.0
PRODID:-//ThemeBoy//SportsPress//EN
CALSCALE:GREGORIAN
METHOD:PUBLISH
URL:/event/orange-red-3-1-26/?ical=G%3A21709&feed=sp-ical
X-FROM-URL:/event/orange-red-3-1-26/?ical=G%3A21709&feed=sp-ical
NAME:Smashing Pumpkins (W-2) vs Red Zeppelin (L-0)
X-WR-CALNAME:Smashing Pumpkins (W-2) vs Red Zeppelin (L-0)
DESCRIPTION:Smashing Pumpkins (W-2) vs Red Zeppelin (L-0)
X-WR-CALDESC:Smashing Pumpkins (W-2) vs Red Zeppelin (L-0)
REFRESH-INTERVAL;VALUE=DURATION:PT2M
X-PUBLISHED-TTL:PT2M
TZID:America/Chicago
X-WR-TIMEZONE:America/Chicago
BEGIN:VEVENT
SUMMARY:Smashing Pumpkins (W-2) vs Red Zeppelin (L-0)
DESCRIPTION:https://www.madisongayhockey.org/event/orange-red-3-1-26/
UID:21709
STATUS:CONFIRMED
DTSTART:20260301T191000
DTEND:20260301T201000
LAST-MODIFIED:20260416T225515
LOCATION:DeForest Yards Ice Arena\\, 6251 Monticello Dr\\, DeForest\\, WI 53532
GEO:43.19131663374569;-89.32292461395265
END:VEVENT
END:VCALENDAR