BEGIN:VCALENDAR
VERSION:2.0
PRODID:-//ThemeBoy//SportsPress//EN
CALSCALE:GREGORIAN
METHOD:PUBLISH
URL:/event/orange-grey-1-11-26/?ical=G%3A21646&feed=sp-ical
X-FROM-URL:/event/orange-grey-1-11-26/?ical=G%3A21646&feed=sp-ical
NAME:Smashing Pumpkins vs Be Grey, Do Crime (Tie: 2-2)
X-WR-CALNAME:Smashing Pumpkins vs Be Grey, Do Crime (Tie: 2-2)
DESCRIPTION:Smashing Pumpkins vs Be Grey, Do Crime (Tie: 2-2)
X-WR-CALDESC:Smashing Pumpkins vs Be Grey, Do Crime (Tie: 2-2)
REFRESH-INTERVAL;VALUE=DURATION:PT2M
X-PUBLISHED-TTL:PT2M
TZID:America/Chicago
X-WR-TIMEZONE:America/Chicago
BEGIN:VEVENT
SUMMARY:Smashing Pumpkins vs Be Grey\, Do Crime (Tie: 2-2)
DESCRIPTION:https://www.madisongayhockey.org/event/orange-grey-1-11-26/
UID:21646
STATUS:CONFIRMED
DTSTART:20260111T160000
DTEND:20260111T170000
LAST-MODIFIED:20260416T225857
LOCATION:Legacy20 Ice Arena - Rink A\\, 2616 N Pleasant View Rd\\, Middleton\\, WI 53562
GEO:43.10484083494262;-89.53730285167696
END:VEVENT
END:VCALENDAR