BEGIN:VCALENDAR
VERSION:2.0
PRODID:-//ThemeBoy//SportsPress//EN
CALSCALE:GREGORIAN
METHOD:PUBLISH
URL:/event/lime-yellow-2-1-26/?ical=G%3A21673&feed=sp-ical
X-FROM-URL:/event/lime-yellow-2-1-26/?ical=G%3A21673&feed=sp-ical
NAME:Wicked On Ice vs Gotta Check 'Em All (Tie: 1-1)
X-WR-CALNAME:Wicked On Ice vs Gotta Check 'Em All (Tie: 1-1)
DESCRIPTION:Wicked On Ice vs Gotta Check 'Em All (Tie: 1-1)
X-WR-CALDESC:Wicked On Ice vs Gotta Check 'Em All (Tie: 1-1)
REFRESH-INTERVAL;VALUE=DURATION:PT2M
X-PUBLISHED-TTL:PT2M
TZID:America/Chicago
X-WR-TIMEZONE:America/Chicago
BEGIN:VEVENT
SUMMARY:Wicked On Ice vs Gotta Check 'Em All (Tie: 1-1)
DESCRIPTION:https://www.madisongayhockey.org/event/lime-yellow-2-1-26/
UID:21673
STATUS:CONFIRMED
DTSTART:20260201T171000
DTEND:20260201T181000
LAST-MODIFIED:20260416T225733
LOCATION:Legacy20 Ice Arena - Rink A\\, 2616 N Pleasant View Rd\\, Middleton\\, WI 53562
GEO:43.10484083494262;-89.53730285167696
END:VEVENT
END:VCALENDAR