BEGIN:VCALENDAR
VERSION:2.0
PRODID:-//ThemeBoy//SportsPress//EN
CALSCALE:GREGORIAN
METHOD:PUBLISH
URL:/event/lime-teal-practice-11-2-25/?ical=G%3A21771&feed=sp-ic
	al
X-FROM-URL:/event/lime-teal-practice-11-2-25/?ical=G%3A21771&feed=sp-ic
	al
NAME:Wicked On Ice and ToTEALly90s! Practice
X-WR-CALNAME:Wicked On Ice and ToTEALly90s! Practice
DESCRIPTION:Wicked On Ice and ToTEALly90s! Practice
X-WR-CALDESC:Wicked On Ice and ToTEALly90s! Practice
REFRESH-INTERVAL;VALUE=DURATION:PT2M
X-PUBLISHED-TTL:PT2M
TZID:America/Chicago
X-WR-TIMEZONE:America/Chicago
BEGIN:VEVENT
SUMMARY:Wicked On Ice and ToTEALly90s! Practice
DESCRIPTION:https://www.madisongayhockey.org/event/lime-teal-practice-11-2-25/
UID:21771
STATUS:CONFIRMED
DTSTART:20251102T170036
DTEND:20251102T180036
LAST-MODIFIED:20251031T231055
LOCATION:Legacy20 Ice Arena - Rink B\\, 2616 N Pleasant View Rd\\, Middleton\\, WI 53562
GEO:43.10484083494262;-89.53730285167696
END:VEVENT
END:VCALENDAR