BEGIN:VCALENDAR
VERSION:2.0
PRODID:-//ThemeBoy//SportsPress//EN
CALSCALE:GREGORIAN
METHOD:PUBLISH
URL:/event/lime-purple-1-25-26/?ical=G%3A21667&feed=sp-ical
X-FROM-URL:/event/lime-purple-1-25-26/?ical=G%3A21667&feed=sp-ical
NAME:Lawn And Order (L-2) vs Purple Penguins (W-5)
X-WR-CALNAME:Lawn And Order (L-2) vs Purple Penguins (W-5)
DESCRIPTION:Lawn And Order (L-2) vs Purple Penguins (W-5)
X-WR-CALDESC:Lawn And Order (L-2) vs Purple Penguins (W-5)
REFRESH-INTERVAL;VALUE=DURATION:PT2M
X-PUBLISHED-TTL:PT2M
TZID:America/Chicago
X-WR-TIMEZONE:America/Chicago
BEGIN:VEVENT
SUMMARY:Lawn And Order (L-2) vs Purple Penguins (W-5)
DESCRIPTION:https://www.madisongayhockey.org/event/lime-purple-1-25-26/
UID:21667
STATUS:CONFIRMED
DTSTART:20260125T215000
DTEND:20260125T225000
LAST-MODIFIED:20260416T225742
LOCATION:Legacy20 Ice Arena - Rink B\\, 2616 N Pleasant View Rd\\, Middleton\\, WI 53562
GEO:43.10484083494262;-89.53730285167696
END:VEVENT
END:VCALENDAR