BEGIN:VCALENDAR
VERSION:2.0
PRODID:-//ThemeBoy//SportsPress//EN
CALSCALE:GREGORIAN
METHOD:PUBLISH
URL:/event/lime-pink-2-1-26/?ical=G%3A21674&feed=sp-ical
X-FROM-URL:/event/lime-pink-2-1-26/?ical=G%3A21674&feed=sp-ical
NAME:Lawn And Order (L-1) vs The Rink Panthers (W-6)
X-WR-CALNAME:Lawn And Order (L-1) vs The Rink Panthers (W-6)
DESCRIPTION:Lawn And Order (L-1) vs The Rink Panthers (W-6)
X-WR-CALDESC:Lawn And Order (L-1) vs The Rink Panthers (W-6)
REFRESH-INTERVAL;VALUE=DURATION:PT2M
X-PUBLISHED-TTL:PT2M
TZID:America/Chicago
X-WR-TIMEZONE:America/Chicago
BEGIN:VEVENT
SUMMARY:Lawn And Order (L-1) vs The Rink Panthers (W-6)
DESCRIPTION:https://www.madisongayhockey.org/event/lime-pink-2-1-26/
UID:21674
STATUS:CONFIRMED
DTSTART:20260201T182000
DTEND:20260201T192000
LAST-MODIFIED:20260416T225723
LOCATION:Legacy20 Ice Arena - Rink A\\, 2616 N Pleasant View Rd\\, Middleton\\, WI 53562
GEO:43.10484083494262;-89.53730285167696
END:VEVENT
END:VCALENDAR