BEGIN:VCALENDAR
VERSION:2.0
PRODID:-//ThemeBoy//SportsPress//EN
CALSCALE:GREGORIAN
METHOD:PUBLISH
URL:/event/lime-bright-blue-11-23-25/?ical=G%3A21598&feed=sp-ica
	l
X-FROM-URL:/event/lime-bright-blue-11-23-25/?ical=G%3A21598&feed=sp-ica
	l
NAME:The Margayritas (W-3) vs Cloud 69 (L-0)
X-WR-CALNAME:The Margayritas (W-3) vs Cloud 69 (L-0)
DESCRIPTION:The Margayritas (W-3) vs Cloud 69 (L-0)
X-WR-CALDESC:The Margayritas (W-3) vs Cloud 69 (L-0)
REFRESH-INTERVAL;VALUE=DURATION:PT2M
X-PUBLISHED-TTL:PT2M
TZID:America/Chicago
X-WR-TIMEZONE:America/Chicago
BEGIN:VEVENT
SUMMARY:The Margayritas (W-3) vs Cloud 69 (L-0)
DESCRIPTION:https://www.madisongayhockey.org/event/lime-bright-blue-11-23-25/
UID:21598
STATUS:CONFIRMED
DTSTART:20251123T170000
DTEND:20251123T180000
LAST-MODIFIED:20260416T230116
LOCATION:Legacy20 Ice Arena - Rink B\\, 2616 N Pleasant View Rd\\, Middleton\\, WI 53562
GEO:43.10484083494262;-89.53730285167696
END:VEVENT
END:VCALENDAR