BEGIN:VCALENDAR
VERSION:2.0
PRODID:-//ThemeBoy//SportsPress//EN
CALSCALE:GREGORIAN
METHOD:PUBLISH
URL:/event/light-blue-red-11-3-19/?ical=G%3A8746&feed=sp-ical
X-FROM-URL:/event/light-blue-red-11-3-19/?ical=G%3A8746&feed=sp-ical
NAME:Blue Moon (W-1) vs Dumpster Fire (L-0)
X-WR-CALNAME:Blue Moon (W-1) vs Dumpster Fire (L-0)
DESCRIPTION:Blue Moon (W-1) vs Dumpster Fire (L-0)
X-WR-CALDESC:Blue Moon (W-1) vs Dumpster Fire (L-0)
REFRESH-INTERVAL;VALUE=DURATION:PT2M
X-PUBLISHED-TTL:PT2M
TZID:America/Chicago
X-WR-TIMEZONE:America/Chicago
BEGIN:VEVENT
SUMMARY:Blue Moon (W-1) vs Dumpster Fire (L-0)
DESCRIPTION:https://www.madisongayhockey.org/event/light-blue-red-11-3-19/
UID:8746
STATUS:CONFIRMED
DTSTART:20191103T170000
DTEND:20191103T180000
LAST-MODIFIED:20260417T020104
LOCATION:Legacy20 Ice Arena - Rink B\, 2616 N Pleasant View Rd\, Middleton\, WI 53562
GEO:43.10484083494262;-89.53730285167696
END:VEVENT
END:VCALENDAR