BEGIN:VCALENDAR
VERSION:2.0
PRODID:-//ThemeBoy//SportsPress//EN
CALSCALE:GREGORIAN
METHOD:PUBLISH
URL:/event/grey-purple-11-9-25/?ical=G%3A21567&feed=sp-ical
X-FROM-URL:/event/grey-purple-11-9-25/?ical=G%3A21567&feed=sp-ical
NAME:Be Grey, Do Crime (W-4) vs Gravity Storm (L-2)
X-WR-CALNAME:Be Grey, Do Crime (W-4) vs Gravity Storm (L-2)
DESCRIPTION:Be Grey, Do Crime (W-4) vs Gravity Storm (L-2)
X-WR-CALDESC:Be Grey, Do Crime (W-4) vs Gravity Storm (L-2)
REFRESH-INTERVAL;VALUE=DURATION:PT2M
X-PUBLISHED-TTL:PT2M
TZID:America/Chicago
X-WR-TIMEZONE:America/Chicago
BEGIN:VEVENT
SUMMARY:Be Grey\, Do Crime (W-4) vs Gravity Storm (L-2)
DESCRIPTION:Purple #88 credited with goal on scoresheet\; no #88 listed on roster\nhttps://www.madisongayhockey.org/event/grey-purple-11-9-25/
UID:21567
STATUS:CONFIRMED
DTSTART:20251109T183000
DTEND:20251109T193000
LAST-MODIFIED:20260416T230322
LOCATION:Legacy20 Ice Arena - Rink A\\, 2616 N Pleasant View Rd\\, Middleton\\, WI 53562
GEO:43.10484083494262;-89.53730285167696
END:VEVENT
END:VCALENDAR