BEGIN:VCALENDAR
VERSION:2.0
PRODID:-//ThemeBoy//SportsPress//EN
CALSCALE:GREGORIAN
METHOD:PUBLISH
URL:/event/grey-black-11-23-25/?ical=G%3A21592&feed=sp-ical
X-FROM-URL:/event/grey-black-11-23-25/?ical=G%3A21592&feed=sp-ical
NAME:Be Grey, Do Crime (W-5) vs Licorice Sticks (L-3)
X-WR-CALNAME:Be Grey, Do Crime (W-5) vs Licorice Sticks (L-3)
DESCRIPTION:Be Grey, Do Crime (W-5) vs Licorice Sticks (L-3)
X-WR-CALDESC:Be Grey, Do Crime (W-5) vs Licorice Sticks (L-3)
REFRESH-INTERVAL;VALUE=DURATION:PT2M
X-PUBLISHED-TTL:PT2M
TZID:America/Chicago
X-WR-TIMEZONE:America/Chicago
BEGIN:VEVENT
SUMMARY:Be Grey\, Do Crime (W-5) vs Licorice Sticks (L-3)
DESCRIPTION:https://www.madisongayhockey.org/event/grey-black-11-23-25/
UID:21592
STATUS:CONFIRMED
DTSTART:20251123T202000
DTEND:20251123T212000
LAST-MODIFIED:20260416T230051
LOCATION:DeForest Yards Ice Arena\\, 6251 Monticello Dr\\, DeForest\\, WI 53532
GEO:43.19131663374569;-89.32292461395265
END:VEVENT
END:VCALENDAR