BEGIN:VCALENDAR
VERSION:2.0
PRODID:-//ThemeBoy//SportsPress//EN
CALSCALE:GREGORIAN
METHOD:PUBLISH
URL:/event/green-black-2-17-19/?ical=G%3A6805&feed=sp-ical
X-FROM-URL:/event/green-black-2-17-19/?ical=G%3A6805&feed=sp-ical
NAME:Dancing Greens (W-2) vs Nightfuries (L-0)
X-WR-CALNAME:Dancing Greens (W-2) vs Nightfuries (L-0)
DESCRIPTION:Dancing Greens (W-2) vs Nightfuries (L-0)
X-WR-CALDESC:Dancing Greens (W-2) vs Nightfuries (L-0)
REFRESH-INTERVAL;VALUE=DURATION:PT2M
X-PUBLISHED-TTL:PT2M
TZID:America/Chicago
X-WR-TIMEZONE:America/Chicago
BEGIN:VEVENT
SUMMARY:Dancing Greens (W-2) vs Nightfuries (L-0)
DESCRIPTION:https://www.madisongayhockey.org/event/green-black-2-17-19/
UID:6805
STATUS:CONFIRMED
DTSTART:20190217T213000
DTEND:20190217T223000
LAST-MODIFIED:20260417T021235
LOCATION:Hartmeyer Ice Arena\, 1834 Commercial Ave\, Madison\, WI 53704\, USA
GEO:43.1071655;-89.36041549999999
END:VEVENT
END:VCALENDAR