BEGIN:VCALENDAR
VERSION:2.0
PRODID:-//ThemeBoy//SportsPress//EN
CALSCALE:GREGORIAN
METHOD:PUBLISH
URL:/event/gold-black-2-12-17/?ical=G%3A2487&feed=sp-ical
X-FROM-URL:/event/gold-black-2-12-17/?ical=G%3A2487&feed=sp-ical
NAME:Golden Skate Warriors (W-4) vs The Unforgivables (L-0)
X-WR-CALNAME:Golden Skate Warriors (W-4) vs The Unforgivables (L-0)
DESCRIPTION:Golden Skate Warriors (W-4) vs The Unforgivables (L-0)
X-WR-CALDESC:Golden Skate Warriors (W-4) vs The Unforgivables (L-0)
REFRESH-INTERVAL;VALUE=DURATION:PT2M
X-PUBLISHED-TTL:PT2M
TZID:America/Chicago
X-WR-TIMEZONE:America/Chicago
BEGIN:VEVENT
SUMMARY:Golden Skate Warriors (W-4) vs The Unforgivables (L-0)
DESCRIPTION:https://www.madisongayhockey.org/event/gold-black-2-12-17/
UID:2487
STATUS:CONFIRMED
DTSTART:20170212T212000
DTEND:20170212T222000
LAST-MODIFIED:20260417T022813
LOCATION:Hartmeyer Ice Arena\\, 1834 Commercial Ave\\, Madison\\, WI 53704\\, USA
GEO:43.1071655;-89.36041549999999
END:VEVENT
END:VCALENDAR