BEGIN:VCALENDAR
VERSION:2.0
PRODID:-//ThemeBoy//SportsPress//EN
CALSCALE:GREGORIAN
METHOD:PUBLISH
URL:/event/bright-blue-white-11-16-25-3/?ical=G%3A21588&feed=sp-
	ical
X-FROM-URL:/event/bright-blue-white-11-16-25-3/?ical=G%3A21588&feed=sp-
	ical
NAME:Blutonium (L-2) vs The Wonderful Blizzard of Oz (W-3)
X-WR-CALNAME:Blutonium (L-2) vs The Wonderful Blizzard of Oz (W-3)
DESCRIPTION:Blutonium (L-2) vs The Wonderful Blizzard of Oz (W-3)
X-WR-CALDESC:Blutonium (L-2) vs The Wonderful Blizzard of Oz (W-3)
REFRESH-INTERVAL;VALUE=DURATION:PT2M
X-PUBLISHED-TTL:PT2M
TZID:America/Chicago
X-WR-TIMEZONE:America/Chicago
BEGIN:VEVENT
SUMMARY:Blutonium (L-2) vs The Wonderful Blizzard of Oz (W-3)
DESCRIPTION:https://www.madisongayhockey.org/event/bright-blue-white-11-16-25-3/
UID:21588
STATUS:CONFIRMED
DTSTART:20251116T203000
DTEND:20251116T213000
LAST-MODIFIED:20260416T230126
LOCATION:Legacy20 Ice Arena - Rink B\\, 2616 N Pleasant View Rd\\, Middleton\\, WI 53562
GEO:43.10484083494262;-89.53730285167696
END:VEVENT
END:VCALENDAR