BEGIN:VCALENDAR
VERSION:2.0
PRODID:-//ThemeBoy//SportsPress//EN
CALSCALE:GREGORIAN
METHOD:PUBLISH
URL:/event/bright-blue-red-2-18-24/?ical=G%3A16226&feed=sp-ical
X-FROM-URL:/event/bright-blue-red-2-18-24/?ical=G%3A16226&feed=sp-ical
NAME:Under the Sea vs Extremely Well Red (Tie: 1-1)
X-WR-CALNAME:Under the Sea vs Extremely Well Red (Tie: 1-1)
DESCRIPTION:Under the Sea vs Extremely Well Red (Tie: 1-1)
X-WR-CALDESC:Under the Sea vs Extremely Well Red (Tie: 1-1)
REFRESH-INTERVAL;VALUE=DURATION:PT2M
X-PUBLISHED-TTL:PT2M
TZID:America/Chicago
X-WR-TIMEZONE:America/Chicago
BEGIN:VEVENT
SUMMARY:Under the Sea vs Extremely Well Red (Tie: 1-1)
DESCRIPTION:https://www.madisongayhockey.org/event/bright-blue-red-2-18-24/
UID:16226
STATUS:CONFIRMED
DTSTART:20240218T215000
DTEND:20240218T225000
LAST-MODIFIED:20260416T232441
LOCATION:Legacy20 Ice Arena - Rink B\\, 2616 N Pleasant View Rd\\, Middleton\\, WI 53562
GEO:43.10484083494262;-89.53730285167696
END:VEVENT
END:VCALENDAR