BEGIN:VCALENDAR
VERSION:2.0
PRODID:-//ThemeBoy//SportsPress//EN
CALSCALE:GREGORIAN
METHOD:PUBLISH
URL:/event/bright-blue-maroon-3-10-24/?ical=G%3A16241&feed=sp-ic
	al
X-FROM-URL:/event/bright-blue-maroon-3-10-24/?ical=G%3A16241&feed=sp-ic
	al
NAME:Under the Sea (W-2) vs Maroon XV (L-1)
X-WR-CALNAME:Under the Sea (W-2) vs Maroon XV (L-1)
DESCRIPTION:Under the Sea (W-2) vs Maroon XV (L-1)
X-WR-CALDESC:Under the Sea (W-2) vs Maroon XV (L-1)
REFRESH-INTERVAL;VALUE=DURATION:PT2M
X-PUBLISHED-TTL:PT2M
TZID:America/Chicago
X-WR-TIMEZONE:America/Chicago
BEGIN:VEVENT
SUMMARY:Under the Sea (W-2) vs Maroon XV (L-1)
DESCRIPTION:https://www.madisongayhockey.org/event/bright-blue-maroon-3-10-24/
UID:16241
STATUS:CONFIRMED
DTSTART:20240310T181000
DTEND:20240310T191000
LAST-MODIFIED:20260416T232407
LOCATION:Legacy20 Ice Arena - Rink A\\, 2616 N Pleasant View Rd\\, Middleton\\, WI 53562
GEO:43.10484083494262;-89.53730285167696
END:VEVENT
END:VCALENDAR