BEGIN:VCALENDAR
VERSION:2.0
PRODID:-//ThemeBoy//SportsPress//EN
CALSCALE:GREGORIAN
METHOD:PUBLISH
URL:/event/black-yellow-3-6-22/?ical=G%3A11332&feed=sp-ical
X-FROM-URL:/event/black-yellow-3-6-22/?ical=G%3A11332&feed=sp-ical
NAME:Black Holes (L-2) vs Magic School Bus (W-3)
X-WR-CALNAME:Black Holes (L-2) vs Magic School Bus (W-3)
DESCRIPTION:Black Holes (L-2) vs Magic School Bus (W-3)
X-WR-CALDESC:Black Holes (L-2) vs Magic School Bus (W-3)
REFRESH-INTERVAL;VALUE=DURATION:PT2M
X-PUBLISHED-TTL:PT2M
TZID:America/Chicago
X-WR-TIMEZONE:America/Chicago
BEGIN:VEVENT
SUMMARY:Black Holes (L-2) vs Magic School Bus (W-3)
DESCRIPTION:https://www.madisongayhockey.org/event/black-yellow-3-6-22/
UID:11332
STATUS:CONFIRMED
DTSTART:20220306T185000
DTEND:20220306T195000
LAST-MODIFIED:20260417T015121
LOCATION:Legacy20 Ice Arena - Rink B\\, 2616 N Pleasant View Rd\\, Middleton\\, WI 53562
GEO:43.10484083494262;-89.53730285167696
END:VEVENT
END:VCALENDAR