BEGIN:VCALENDAR
VERSION:2.0
PRODID:-//ThemeBoy//SportsPress//EN
CALSCALE:GREGORIAN
METHOD:PUBLISH
URL:/event/black-yellow-2-2-25/?ical=G%3A18995&feed=sp-ical
X-FROM-URL:/event/black-yellow-2-2-25/?ical=G%3A18995&feed=sp-ical
NAME:GeriHattricks (L-0) vs Pineapples Under The Sea (W-4)
X-WR-CALNAME:GeriHattricks (L-0) vs Pineapples Under The Sea (W-4)
DESCRIPTION:GeriHattricks (L-0) vs Pineapples Under The Sea (W-4)
X-WR-CALDESC:GeriHattricks (L-0) vs Pineapples Under The Sea (W-4)
REFRESH-INTERVAL;VALUE=DURATION:PT2M
X-PUBLISHED-TTL:PT2M
TZID:America/Chicago
X-WR-TIMEZONE:America/Chicago
BEGIN:VEVENT
SUMMARY:GeriHattricks (L-0) vs Pineapples Under The Sea (W-4)
DESCRIPTION:https://www.madisongayhockey.org/event/black-yellow-2-2-25/
UID:18995
STATUS:CONFIRMED
DTSTART:20250202T170000
DTEND:20250202T180000
LAST-MODIFIED:20260416T231047
LOCATION:Legacy20 Ice Arena - Rink B\, 2616 N Pleasant View Rd\, Middleton\, WI 53562
GEO:43.10484083494262;-89.53730285167696
END:VEVENT
END:VCALENDAR