BEGIN:VCALENDAR
VERSION:2.0
PRODID:-//ThemeBoy//SportsPress//EN
CALSCALE:GREGORIAN
METHOD:PUBLISH
URL:/event/black-red-4-10-22/?ical=G%3A12238&feed=sp-ical
X-FROM-URL:/event/black-red-4-10-22/?ical=G%3A12238&feed=sp-ical
NAME:Black Holes (W-5) vs The Red Flags (L-3)
X-WR-CALNAME:Black Holes (W-5) vs The Red Flags (L-3)
DESCRIPTION:Black Holes (W-5) vs The Red Flags (L-3)
X-WR-CALDESC:Black Holes (W-5) vs The Red Flags (L-3)
REFRESH-INTERVAL;VALUE=DURATION:PT2M
X-PUBLISHED-TTL:PT2M
TZID:America/Chicago
X-WR-TIMEZONE:America/Chicago
BEGIN:VEVENT
SUMMARY:Black Holes (W-5) vs The Red Flags (L-3)
DESCRIPTION:https://www.madisongayhockey.org/event/black-red-4-10-22/
UID:12238
STATUS:CONFIRMED
DTSTART:20220410T185052
DTEND:20220410T195052
LAST-MODIFIED:20260417T014905
LOCATION:Legacy20 Ice Arena - Rink B\\, 2616 N Pleasant View Rd\\, Middleton\\, WI 53562
GEO:43.10484083494262;-89.53730285167696
END:VEVENT
END:VCALENDAR