BEGIN:VCALENDAR
VERSION:2.0
PRODID:-//ThemeBoy//SportsPress//EN
CALSCALE:GREGORIAN
METHOD:PUBLISH
URL:/event/black-red-12-12-21/?ical=G%3A11265&feed=sp-ical
X-FROM-URL:/event/black-red-12-12-21/?ical=G%3A11265&feed=sp-ical
NAME:Black Holes vs The Red Flags (Tie: 0-0)
X-WR-CALNAME:Black Holes vs The Red Flags (Tie: 0-0)
DESCRIPTION:Black Holes vs The Red Flags (Tie: 0-0)
X-WR-CALDESC:Black Holes vs The Red Flags (Tie: 0-0)
REFRESH-INTERVAL;VALUE=DURATION:PT2M
X-PUBLISHED-TTL:PT2M
TZID:America/Chicago
X-WR-TIMEZONE:America/Chicago
BEGIN:VEVENT
SUMMARY:Black Holes vs The Red Flags (Tie: 0-0)
DESCRIPTION:https://www.madisongayhockey.org/event/black-red-12-12-21/
UID:11265
STATUS:CONFIRMED
DTSTART:20211212T192000
DTEND:20211212T202000
LAST-MODIFIED:20260417T015410
LOCATION:Legacy20 Ice Arena - Rink A\, 2616 N Pleasant View Rd\, Middleton\, WI 53562
GEO:43.10484083494262;-89.53730285167696
END:VEVENT
END:VCALENDAR