BEGIN:VCALENDAR
VERSION:2.0
PRODID:-//ThemeBoy//SportsPress//EN
CALSCALE:GREGORIAN
METHOD:PUBLISH
URL:/event/black-bright-blue-1-11-26/?ical=G%3A21653&feed=sp-ica
	l
X-FROM-URL:/event/black-bright-blue-1-11-26/?ical=G%3A21653&feed=sp-ica
	l
NAME:Licorice Sticks (W-3) vs Cloud 69 (L-1)
X-WR-CALNAME:Licorice Sticks (W-3) vs Cloud 69 (L-1)
DESCRIPTION:Licorice Sticks (W-3) vs Cloud 69 (L-1)
X-WR-CALDESC:Licorice Sticks (W-3) vs Cloud 69 (L-1)
REFRESH-INTERVAL;VALUE=DURATION:PT2M
X-PUBLISHED-TTL:PT2M
TZID:America/Chicago
X-WR-TIMEZONE:America/Chicago
BEGIN:VEVENT
SUMMARY:Licorice Sticks (W-3) vs Cloud 69 (L-1)
DESCRIPTION:https://www.madisongayhockey.org/event/black-bright-blue-1-11-26/
UID:21653
STATUS:CONFIRMED
DTSTART:20260111T192000
DTEND:20260111T202000
LAST-MODIFIED:20260416T225835
LOCATION:Legacy20 Ice Arena - Rink B\\, 2616 N Pleasant View Rd\\, Middleton\\, WI 53562
GEO:43.10484083494262;-89.53730285167696
END:VEVENT
END:VCALENDAR