BEGIN:VCALENDAR
VERSION:2.0
PRODID:-//ThemeBoy//SportsPress//EN
CALSCALE:GREGORIAN
METHOD:PUBLISH
URL:https://www.madisongayhockey.org/calendar/squirtle-squad/?fe
	ed=sp-ical
X-FROM-URL:https://www.madisongayhockey.org/calendar/squirtle-squad/?fe
	ed=sp-ical
NAME:Squirtle Squad
X-WR-CALNAME:Squirtle Squad
DESCRIPTION:Squirtle Squad
X-WR-CALDESC:Squirtle Squad
REFRESH-INTERVAL;VALUE=DURATION:PT2M
X-PUBLISHED-TTL:PT2M
TZID:America/Chicago
X-WR-TIMEZONE:America/Chicago
BEGIN:VEVENT
SUMMARY:Queer Lime Pie 1 Squirtle Squad 2
UID:13636
STATUS:CONFIRMED
DTSTAMP:19700101T000000
DTSTART:20221106T170000
DTEND:20221106T180000
LAST-MODIFIED:20260417T014839
LOCATION:Legacy20 Ice Arena - Rink A\, 2616 N Pleasant View Rd\,
	Middleton\, WI 53562
GEO:43.10484083494262;-89.53730285167696
END:VEVENT
BEGIN:VEVENT
SUMMARY:Just Ice 1 Squirtle Squad 2
UID:13651
STATUS:CONFIRMED
DTSTAMP:19700101T000000
DTSTART:20221113T211000
DTEND:20221113T221000
LAST-MODIFIED:20260417T014753
LOCATION:Legacy20 Ice Arena - Rink B\, 2616 N Pleasant View Rd\,
	Middleton\, WI 53562
GEO:43.10484083494262;-89.53730285167696
END:VEVENT
BEGIN:VEVENT
SUMMARY:The IncREDibles 3 Squirtle Squad 3
UID:13655
STATUS:CONFIRMED
DTSTAMP:19700101T000000
DTSTART:20221120T203000
DTEND:20221120T213000
LAST-MODIFIED:20260417T014729
LOCATION:Legacy20 Ice Arena - Rink A\, 2616 N Pleasant View Rd\,
	Middleton\, WI 53562
GEO:43.10484083494262;-89.53730285167696
END:VEVENT
BEGIN:VEVENT
SUMMARY:Squirtle Squad 2 Sith Happens 0
UID:13661
STATUS:CONFIRMED
DTSTAMP:19700101T000000
DTSTART:20221204T181000
DTEND:20221204T191000
LAST-MODIFIED:20260417T014712
LOCATION:Legacy20 Ice Arena - Rink A\, 2616 N Pleasant View Rd\,
	Middleton\, WI 53562
GEO:43.10484083494262;-89.53730285167696
END:VEVENT
BEGIN:VEVENT
SUMMARY:Squirtle Squad 1 Sunny Defense 4
UID:13669
STATUS:CONFIRMED
DTSTAMP:19700101T000000
DTSTART:20221211T192000
DTEND:20221211T202000
LAST-MODIFIED:20260417T014558
LOCATION:Legacy20 Ice Arena - Rink A\, 2616 N Pleasant View Rd\,
	Middleton\, WI 53562
GEO:43.10484083494262;-89.53730285167696
END:VEVENT
BEGIN:VEVENT
SUMMARY:Cookie Monsters (2022-2023) 0 Squirtle Squad 1
UID:13680
STATUS:CONFIRMED
DTSTAMP:19700101T000000
DTSTART:20221218T164000
DTEND:20221218T174000
LAST-MODIFIED:20260417T014546
LOCATION:Legacy20 Ice Arena - Rink B\, 2616 N Pleasant View Rd\,
	Middleton\, WI 53562
GEO:43.10484083494262;-89.53730285167696
END:VEVENT
BEGIN:VEVENT
SUMMARY:Rubber Puckies (2022-2023) 0 Squirtle Squad 4
UID:13689
STATUS:CONFIRMED
DTSTAMP:19700101T000000
DTSTART:20230108T174000
DTEND:20230108T184000
LAST-MODIFIED:20260417T014514
LOCATION:Legacy20 Ice Arena - Rink B\, 2616 N Pleasant View Rd\,
	Middleton\, WI 53562
GEO:43.10484083494262;-89.53730285167696
END:VEVENT
BEGIN:VEVENT
SUMMARY:Squirtle Squad 3 Queer Lime Pie 0
UID:13693
STATUS:CONFIRMED
DTSTAMP:19700101T000000
DTSTART:20230122T181000
DTEND:20230122T191000
LAST-MODIFIED:20260417T014445
LOCATION:Legacy20 Ice Arena - Rink A\, 2616 N Pleasant View Rd\,
	Middleton\, WI 53562
GEO:43.10484083494262;-89.53730285167696
END:VEVENT
BEGIN:VEVENT
SUMMARY:Just Ice 1 Squirtle Squad 2
UID:13704
STATUS:CONFIRMED
DTSTAMP:19700101T000000
DTSTART:20230129T163000
DTEND:20230129T173000
LAST-MODIFIED:20260417T014429
LOCATION:Legacy20 Ice Arena - Rink B\, 2616 N Pleasant View Rd\,
	Middleton\, WI 53562
GEO:43.10484083494262;-89.53730285167696
END:VEVENT
BEGIN:VEVENT
SUMMARY:Squirtle Squad 2 The IncREDibles 1
UID:13709
STATUS:CONFIRMED
DTSTAMP:19700101T000000
DTSTART:20230205T181000
DTEND:20230205T191000
LAST-MODIFIED:20260417T014351
LOCATION:Legacy20 Ice Arena - Rink A\, 2616 N Pleasant View Rd\,
	Middleton\, WI 53562
GEO:43.10484083494262;-89.53730285167696
END:VEVENT
BEGIN:VEVENT
SUMMARY:Squirtle Squad 1 Sith Happens 2
UID:13720
STATUS:CONFIRMED
DTSTAMP:19700101T000000
DTSTART:20230219T163000
DTEND:20230219T173000
LAST-MODIFIED:20260417T014336
LOCATION:Legacy20 Ice Arena - Rink B\, 2616 N Pleasant View Rd\,
	Middleton\, WI 53562
GEO:43.10484083494262;-89.53730285167696
END:VEVENT
BEGIN:VEVENT
SUMMARY:Sunny Defense 3 Squirtle Squad 2
UID:13729
STATUS:CONFIRMED
DTSTAMP:19700101T000000
DTSTART:20230226T175500
DTEND:20230226T185500
LAST-MODIFIED:20260417T014303
LOCATION:Legacy20 Ice Arena - Rink B\, 2616 N Pleasant View Rd\,
	Middleton\, WI 53562
GEO:43.10484083494262;-89.53730285167696
END:VEVENT
BEGIN:VEVENT
SUMMARY:Squirtle Squad 1 Cookie Monsters (2022-2023) 3
UID:13735
STATUS:CONFIRMED
DTSTAMP:19700101T000000
DTSTART:20230305T211000
DTEND:20230305T221000
LAST-MODIFIED:20260417T014201
LOCATION:Legacy20 Ice Arena - Rink A\, 2616 N Pleasant View Rd\,
	Middleton\, WI 53562
GEO:43.10484083494262;-89.53730285167696
END:VEVENT
BEGIN:VEVENT
SUMMARY:Squirtle Squad 2 Rubber Puckies (2022-2023) 2
UID:13746
STATUS:CONFIRMED
DTSTAMP:19700101T000000
DTSTART:20230312T185000
DTEND:20230312T195000
LAST-MODIFIED:20260417T014142
LOCATION:Legacy20 Ice Arena - Rink A\, 2616 N Pleasant View Rd\,
	Middleton\, WI 53562
GEO:43.10484083494262;-89.53730285167696
END:VEVENT
BEGIN:VEVENT
SUMMARY:Just Ice 3 Squirtle Squad 1
UID:14627
STATUS:CONFIRMED
DTSTAMP:19700101T000000
DTSTART:20230319T201521
DTEND:20230319T211521
LAST-MODIFIED:20260416T233202
LOCATION:Legacy20 Ice Arena - Rink A\, 2616 N Pleasant View Rd\,
	Middleton\, WI 53562
GEO:43.10484083494262;-89.53730285167696
END:VEVENT
END:VCALENDAR