BEGIN:VCALENDAR
VERSION:2.0
PRODID:-//ThemeBoy//SportsPress//EN
CALSCALE:GREGORIAN
METHOD:PUBLISH
URL:https://www.madisongayhockey.org/calendar/rainbow-dash/?feed
	=sp-ical
X-FROM-URL:https://www.madisongayhockey.org/calendar/rainbow-dash/?feed
	=sp-ical
NAME:Rainbow Dash
X-WR-CALNAME:Rainbow Dash
DESCRIPTION:Rainbow Dash
X-WR-CALDESC:Rainbow Dash
REFRESH-INTERVAL;VALUE=DURATION:PT2M
X-PUBLISHED-TTL:PT2M
TZID:America/Chicago
X-WR-TIMEZONE:America/Chicago
BEGIN:VEVENT
SUMMARY:Tangerine Dream vs Rainbow Dash
UID:12377
STATUS:CONFIRMED
DTSTAMP:19700101T000000
DTSTART:20220429T183000
DTEND:20220429T193000
LAST-MODIFIED:20220430T033346
LOCATION:Legacy20 Ice Arena - Rink B\, 2616 N Pleasant View Rd\,
	Middleton\, WI 53562
GEO:43.10484083494262;-89.53730285167696
END:VEVENT
BEGIN:VEVENT
SUMMARY:2022 Yellow - Competitive vs Rainbow Dash
UID:12385
STATUS:CONFIRMED
DTSTAMP:19700101T000000
DTSTART:20220430T115000
DTEND:20220430T125000
LAST-MODIFIED:20220430T033346
LOCATION:Legacy20 Ice Arena - Rink B\, 2616 N Pleasant View Rd\,
	Middleton\, WI 53562
GEO:43.10484083494262;-89.53730285167696
END:VEVENT
BEGIN:VEVENT
SUMMARY:Ice Holes vs Rainbow Dash
UID:12389
STATUS:CONFIRMED
DTSTAMP:19700101T000000
DTSTART:20220430T151000
DTEND:20220430T161000
LAST-MODIFIED:20220430T201826
LOCATION:Legacy20 Ice Arena - Rink A\, 2616 N Pleasant View Rd\,
	Middleton\, WI 53562
GEO:43.10484083494262;-89.53730285167696
END:VEVENT
BEGIN:VEVENT
SUMMARY:2022 Yellow - Competitive vs Rainbow Dash
UID:12400
STATUS:CONFIRMED
DTSTAMP:19700101T000000
DTSTART:20220501T115041
DTEND:20220501T125041
LAST-MODIFIED:20220606T054220
LOCATION:Legacy20 Ice Arena - Rink A\, 2616 N Pleasant View Rd\,
	Middleton\, WI 53562
GEO:43.10484083494262;-89.53730285167696
END:VEVENT
END:VCALENDAR