BEGIN:VCALENDAR
VERSION:2.0
PRODID:-//ThemeBoy//SportsPress//EN
CALSCALE:GREGORIAN
METHOD:PUBLISH
URL:https://www.madisongayhockey.org/calendar/puckosaurus-rex/?f
	eed=sp-ical
X-FROM-URL:https://www.madisongayhockey.org/calendar/puckosaurus-rex/?f
	eed=sp-ical
NAME:Puckosaurus-Rex
X-WR-CALNAME:Puckosaurus-Rex
DESCRIPTION:Puckosaurus-Rex
X-WR-CALDESC:Puckosaurus-Rex
REFRESH-INTERVAL;VALUE=DURATION:PT2M
X-PUBLISHED-TTL:PT2M
TZID:America/Chicago
X-WR-TIMEZONE:America/Chicago
BEGIN:VEVENT
SUMMARY:Frozen 3: Elsa’s Gay vs Puckosaurus-Rex
UID:23225
STATUS:CONFIRMED
DTSTAMP:19700101T000000
DTSTART:20260424T204500
DTEND:20260424T214500
LAST-MODIFIED:20260418T032112
LOCATION:Verona Ice Arena - NHL Rink\, 451 E Verona Ave\, Verona\, WI
	53593
GEO:42.992053038471354;-89.52639698982239
END:VEVENT
BEGIN:VEVENT
SUMMARY:Grape Expectations vs Puckosaurus-Rex
UID:23229
STATUS:CONFIRMED
DTSTAMP:19700101T000000
DTSTART:20260425T123000
DTEND:20260425T133000
LAST-MODIFIED:20260418T213216
LOCATION:Verona Ice Arena - Olympic Rink\, 451 E Verona Ave\,
	Verona\, WI 53593
GEO:42.992053038471354;-89.52639698982239
END:VEVENT
BEGIN:VEVENT
SUMMARY:Puckosaurus-Rex vs Cherry Bombs
UID:23247
STATUS:CONFIRMED
DTSTAMP:19700101T000000
DTSTART:20260425T214500
DTEND:20260425T224500
LAST-MODIFIED:20260418T032122
LOCATION:Verona Ice Arena - NHL Rink\, 451 E Verona Ave\, Verona\, WI
	53593
GEO:42.992053038471354;-89.52639698982239
END:VEVENT
END:VCALENDAR