BEGIN:VCALENDAR
VERSION:2.0
PRODID:-//ThemeBoy//SportsPress//EN
CALSCALE:GREGORIAN
METHOD:PUBLISH
URL:https://www.madisongayhockey.org/calendar/lime-and-punishmen
	t/?feed=sp-ical
X-FROM-URL:https://www.madisongayhockey.org/calendar/lime-and-punishmen
	t/?feed=sp-ical
NAME:Lime and Punishment
X-WR-CALNAME:Lime and Punishment
DESCRIPTION:Lime and Punishment
X-WR-CALDESC:Lime and Punishment
REFRESH-INTERVAL;VALUE=DURATION:PT2M
X-PUBLISHED-TTL:PT2M
TZID:America/Chicago
X-WR-TIMEZONE:America/Chicago
BEGIN:VEVENT
SUMMARY:The Blue Tang Clan vs Lime and Punishment
UID:23223
STATUS:CONFIRMED
DTSTAMP:19700101T000000
DTSTART:20260424T181500
DTEND:20260424T191500
LAST-MODIFIED:20260418T192014
LOCATION:Verona Ice Arena - NHL Rink\, 451 E Verona Ave\, Verona\, WI
	53593
GEO:42.992053038471354;-89.52639698982239
END:VEVENT
BEGIN:VEVENT
SUMMARY:Blue By Ya! vs Lime and Punishment
UID:23227
STATUS:CONFIRMED
DTSTAMP:19700101T000000
DTSTART:20260425T100000
DTEND:20260425T110000
LAST-MODIFIED:20260418T192019
LOCATION:Verona Ice Arena - Olympic Rink\, 451 E Verona Ave\,
	Verona\, WI 53593
GEO:42.992053038471354;-89.52639698982239
END:VEVENT
BEGIN:VEVENT
SUMMARY:Heated Royalty vs Lime and Punishment
UID:23243
STATUS:CONFIRMED
DTSTAMP:19700101T000000
DTSTART:20260425T164500
DTEND:20260425T174500
LAST-MODIFIED:20260418T192024
LOCATION:Verona Ice Arena - NHL Rink\, 451 E Verona Ave\, Verona\, WI
	53593
GEO:42.992053038471354;-89.52639698982239
END:VEVENT
END:VCALENDAR