BEGIN:VCALENDAR
VERSION:2.0
PRODID:-//ThemeBoy//SportsPress//EN
CALSCALE:GREGORIAN
METHOD:PUBLISH
URL:https://www.madisongayhockey.org/calendar/homogoblins/?feed=
	sp-ical
X-FROM-URL:https://www.madisongayhockey.org/calendar/homogoblins/?feed=
	sp-ical
NAME:Homogoblins
X-WR-CALNAME:Homogoblins
DESCRIPTION:Homogoblins
X-WR-CALDESC:Homogoblins
REFRESH-INTERVAL;VALUE=DURATION:PT2M
X-PUBLISHED-TTL:PT2M
TZID:America/Chicago
X-WR-TIMEZONE:America/Chicago
BEGIN:VEVENT
SUMMARY:Leviathan vs Homogoblins
UID:23218
STATUS:CONFIRMED
DTSTAMP:19700101T000000
DTSTART:20260424T190000
DTEND:20260424T200000
LAST-MODIFIED:20260418T023537
LOCATION:Verona Ice Arena - Olympic Rink\, 451 E Verona Ave\,
	Verona\, WI 53593
GEO:42.992053038471354;-89.52639698982239
END:VEVENT
BEGIN:VEVENT
SUMMARY:Blue-Ty calls vs Homogoblins
UID:23242
STATUS:CONFIRMED
DTSTAMP:19700101T000000
DTSTART:20260425T153000
DTEND:20260425T163000
LAST-MODIFIED:20260418T023543
LOCATION:Verona Ice Arena - NHL Rink\, 451 E Verona Ave\, Verona\, WI
	53593
GEO:42.992053038471354;-89.52639698982239
END:VEVENT
BEGIN:VEVENT
SUMMARY:ICE OUT! vs Homogoblins
UID:23235
STATUS:CONFIRMED
DTSTAMP:19700101T000000
DTSTART:20260425T200000
DTEND:20260425T210000
LAST-MODIFIED:20260418T160941
LOCATION:Verona Ice Arena - Olympic Rink\, 451 E Verona Ave\,
	Verona\, WI 53593
GEO:42.992053038471354;-89.52639698982239
END:VEVENT
END:VCALENDAR