BEGIN:VCALENDAR
VERSION:2.0
PRODID:-//ThemeBoy//SportsPress//EN
CALSCALE:GREGORIAN
METHOD:PUBLISH
URL:https://www.madisongayhockey.org/calendar/2022-l2-summer-scr
	immages-early/?feed=sp-ical
X-FROM-URL:https://www.madisongayhockey.org/calendar/2022-l2-summer-scr
	immages-early/?feed=sp-ical
NAME:2022 L2 Summer Scrimmages - Early
X-WR-CALNAME:2022 L2 Summer Scrimmages - Early
DESCRIPTION:2022 L2 Summer Scrimmages - Early
X-WR-CALDESC:2022 L2 Summer Scrimmages - Early
REFRESH-INTERVAL;VALUE=DURATION:PT2M
X-PUBLISHED-TTL:PT2M
TZID:America/Chicago
X-WR-TIMEZONE:America/Chicago
BEGIN:VEVENT
SUMMARY:2022 L2 Summer Scrimmages - Early - Thursday\, June 23rd
UID:12514
STATUS:CONFIRMED
DTSTAMP:19700101T000000
DTSTART:20220623T195049
DTEND:20220623T205049
LAST-MODIFIED:20221030T171122
LOCATION:Legacy20 Ice Arena\, 2616 N Pleasant View Rd\, Middleton\,
	WI 53562
GEO:43.10484083494262;-89.53730285167696
END:VEVENT
BEGIN:VEVENT
SUMMARY:2022 L2 Summer Scrimmages - Early - Thursday\, June 30th
UID:12515
STATUS:CONFIRMED
DTSTAMP:19700101T000000
DTSTART:20220630T195033
DTEND:20220630T205033
LAST-MODIFIED:20221030T171122
LOCATION:Legacy20 Ice Arena\, 2616 N Pleasant View Rd\, Middleton\,
	WI 53562
GEO:43.10484083494262;-89.53730285167696
END:VEVENT
BEGIN:VEVENT
SUMMARY:2022 L2 Summer Scrimmages - Early - Thursday\, July 7th
UID:12516
STATUS:CONFIRMED
DTSTAMP:19700101T000000
DTSTART:20220707T195035
DTEND:20220707T205035
LAST-MODIFIED:20221030T171122
LOCATION:Legacy20 Ice Arena\, 2616 N Pleasant View Rd\, Middleton\,
	WI 53562
GEO:43.10484083494262;-89.53730285167696
END:VEVENT
BEGIN:VEVENT
SUMMARY:2022 L2 Summer Scrimmages - Early - Thursday\, July 14th
UID:12517
STATUS:CONFIRMED
DTSTAMP:19700101T000000
DTSTART:20220714T195017
DTEND:20220714T205017
LAST-MODIFIED:20221030T171123
LOCATION:Legacy20 Ice Arena\, 2616 N Pleasant View Rd\, Middleton\,
	WI 53562
GEO:43.10484083494262;-89.53730285167696
END:VEVENT
BEGIN:VEVENT
SUMMARY:2022 L2 Summer Scrimmages - Early - Thursday\, July 21st
UID:12518
STATUS:CONFIRMED
DTSTAMP:19700101T000000
DTSTART:20220721T195050
DTEND:20220721T205050
LAST-MODIFIED:20221030T171123
LOCATION:Legacy20 Ice Arena\, 2616 N Pleasant View Rd\, Middleton\,
	WI 53562
GEO:43.10484083494262;-89.53730285167696
END:VEVENT
END:VCALENDAR