BEGIN:VCALENDAR
VERSION:2.0
PRODID:-//ThemeBoy//SportsPress//EN
CALSCALE:GREGORIAN
METHOD:PUBLISH
URL:https://www.madisongayhockey.org/calendar/2022-l1-summer-scr
	immages-late/?feed=sp-ical
X-FROM-URL:https://www.madisongayhockey.org/calendar/2022-l1-summer-scr
	immages-late/?feed=sp-ical
NAME:2022 L1 Summer Scrimmages - Late
X-WR-CALNAME:2022 L1 Summer Scrimmages - Late
DESCRIPTION:2022 L1 Summer Scrimmages - Late
X-WR-CALDESC:2022 L1 Summer Scrimmages - Late
REFRESH-INTERVAL;VALUE=DURATION:PT2M
X-PUBLISHED-TTL:PT2M
TZID:America/Chicago
X-WR-TIMEZONE:America/Chicago
BEGIN:VEVENT
SUMMARY:2022 L1 Summer Scrimmages - Late - Tuesday\, July 26th
UID:12524
STATUS:CONFIRMED
DTSTAMP:19700101T000000
DTSTART:20220726T204547
DTEND:20220726T214547
LAST-MODIFIED:20221030T171123
LOCATION:Legacy20 Ice Arena\, 2616 N Pleasant View Rd\, Middleton\,
	WI 53562
GEO:43.10484083494262;-89.53730285167696
END:VEVENT
BEGIN:VEVENT
SUMMARY:2022 L1 Summer Scrimmages - Late - Tuesday\, August 2nd
UID:12525
STATUS:CONFIRMED
DTSTAMP:19700101T000000
DTSTART:20220802T204521
DTEND:20220802T214521
LAST-MODIFIED:20221030T171123
LOCATION:Legacy20 Ice Arena\, 2616 N Pleasant View Rd\, Middleton\,
	WI 53562
GEO:43.10484083494262;-89.53730285167696
END:VEVENT
BEGIN:VEVENT
SUMMARY:2022 L1 Summer Scrimmages - Late - Tuesday\, August 9th
UID:12526
STATUS:CONFIRMED
DTSTAMP:19700101T000000
DTSTART:20220809T204513
DTEND:20220809T214513
LAST-MODIFIED:20221030T171123
LOCATION:Legacy20 Ice Arena\, 2616 N Pleasant View Rd\, Middleton\,
	WI 53562
GEO:43.10484083494262;-89.53730285167696
END:VEVENT
BEGIN:VEVENT
SUMMARY:2022 L1 Summer Scrimmages - Late - Tuesday\, August 16th
UID:12527
STATUS:CONFIRMED
DTSTAMP:19700101T000000
DTSTART:20220816T204548
DTEND:20220816T214548
LAST-MODIFIED:20221030T171123
LOCATION:Legacy20 Ice Arena\, 2616 N Pleasant View Rd\, Middleton\,
	WI 53562
GEO:43.10484083494262;-89.53730285167696
END:VEVENT
BEGIN:VEVENT
SUMMARY:2022 L1 Summer Scrimmages - Late - Tuesday\, August 23rd
UID:12528
STATUS:CONFIRMED
DTSTAMP:19700101T000000
DTSTART:20220823T204516
DTEND:20220823T214516
LAST-MODIFIED:20221030T171123
LOCATION:Legacy20 Ice Arena\, 2616 N Pleasant View Rd\, Middleton\,
	WI 53562
GEO:43.10484083494262;-89.53730285167696
END:VEVENT
END:VCALENDAR